BEGIN:VCALENDAR
VERSION:2.0
PRODID:-//Integrative Family Medicine of Asheville - ECPv6.15.20//NONSGML v1.0//EN
CALSCALE:GREGORIAN
METHOD:PUBLISH
X-WR-CALNAME:Integrative Family Medicine of Asheville
X-ORIGINAL-URL:https://www.integrativeasheville.org
X-WR-CALDESC:Events for Integrative Family Medicine of Asheville
REFRESH-INTERVAL;VALUE=DURATION:PT1H
X-Robots-Tag:noindex
X-PUBLISHED-TTL:PT1H
BEGIN:VTIMEZONE
TZID:America/New_York
BEGIN:DAYLIGHT
TZOFFSETFROM:-0500
TZOFFSETTO:-0400
TZNAME:EDT
DTSTART:20250309T070000
END:DAYLIGHT
BEGIN:STANDARD
TZOFFSETFROM:-0400
TZOFFSETTO:-0500
TZNAME:EST
DTSTART:20251102T060000
END:STANDARD
BEGIN:DAYLIGHT
TZOFFSETFROM:-0500
TZOFFSETTO:-0400
TZNAME:EDT
DTSTART:20260308T070000
END:DAYLIGHT
BEGIN:STANDARD
TZOFFSETFROM:-0400
TZOFFSETTO:-0500
TZNAME:EST
DTSTART:20261101T060000
END:STANDARD
BEGIN:DAYLIGHT
TZOFFSETFROM:-0500
TZOFFSETTO:-0400
TZNAME:EDT
DTSTART:20270314T070000
END:DAYLIGHT
BEGIN:STANDARD
TZOFFSETFROM:-0400
TZOFFSETTO:-0500
TZNAME:EST
DTSTART:20271107T060000
END:STANDARD
END:VTIMEZONE
BEGIN:VEVENT
DTSTART;TZID=America/New_York:20260506T093000
DTEND;TZID=America/New_York:20260506T123000
DTSTAMP:20260421T221638
CREATED:20260421T140358Z
LAST-MODIFIED:20260421T143424Z
UID:10001377-1778059800-1778070600@www.integrativeasheville.org
SUMMARY:Nature and Forest Therapy Walk
DESCRIPTION:When was the last time you truly slowed down? \n\nJoin our guided Nature and Forest Therapy walk to unplug and reconnect. This experience focuses on slow movement and sensory awareness to discover nature's restorative benefits. \nYour guide will offer gentle invitations to help you engage your senses and experience the landscape in a new way. \nForest Therapy stems from Japanese Shinrin-yoku ("forest bathing")\, which addresses stress and urbanization. Research shows it reduces stress and improves immunity\, a tradition expanded in the U.S. by the Association of Nature and Forest Therapy  integrating elements of mindfulness\, ecotherapy\, psychotherapy\, and wilderness guiding. \nThis Community Event will take place on May 6\, from 9:30 am - 12:30 pm at Asheville Botanical Gardens. The event is open to Integrative Family Medicine members\, and attending is free. However\, this event is limited to 12 seats\, so sign up now to reserve your spot.  \nPlease RSVP via this link to attend. \n  \nYour Guide:\nNancy Krisel\, LCSW\, SEP\, is certified through the ANFT as a Nature and Forest Therapy Guide. She adores time outside and sharing the beauty and wonder of the natural world with others. Her love of nature began in childhood. The birds\, alligators\, banana trees and ocean of her native Florida quietly shaped a lifelong knowing: we are not alone here. We are part of a living\, breathing web of life. Asheville has been her home for more than 20 years\, and she continues to discover new trails and wonders in these ancient mountains. \nNancy is a Licensed Clinical Social Worker and Somatic Experiencing Practitioner in Private Practice. She brings a grounded\, compassionate presence to all her work\, characterized by deep listening\, collaboration\, and unconditional positive regard — whether in the therapy room or beneath the trees. \nRSVP via this link to attend.
URL:https://www.integrativeasheville.org/event/nature-and-forest-therapy-walk/
LOCATION:Ashevlle Botanical Gardens\, 151 WT Weaver Blvd\, Asheville\, NC\, 28804\, United States
ATTACH;FMTTYPE=image/jpeg:https://www.integrativeasheville.org/wp-content/uploads/2026/04/Nature-and-Forest-Walk.jpg
ORGANIZER;CN="Integrative Family Medicine of Asheville":MAILTO:contact@integrativeasheville.org
END:VEVENT
END:VCALENDAR